BEGIN:VCALENDAR
VERSION:2.0
PRODID:www.gruene-buende.de
METHOD:PUBLISH
BEGIN:VTIMEZONE
TZID:Europe/Berlin
X-LIC-LOCATION:Europe/Berlin
BEGIN:DAYLIGHT
TZOFFSETFROM:+0100
TZOFFSETTO:+0200
TZNAME:CEST
DTSTART:19700329T020000
RRULE:FREQ=YEARLY;INTERVAL=1;BYDAY=-1SU;BYMONTH=3
END:DAYLIGHT
BEGIN:STANDARD
TZOFFSETFROM:+0200
TZOFFSETTO:+0100
TZNAME:CET
DTSTART:19701025T030000
RRULE:FREQ=YEARLY;INTERVAL=1;BYDAY=-1SU;BYMONTH=10
END:STANDARD
END:VTIMEZONE
BEGIN:VEVENT
UID:7c6433257dfe75c38e50de3539045d6b@www.gruene-buende.de
URL;VALUE=URI:https://www.gruene-buende.de/termine/stricken-schnacken-15-
 5-2025/
LOCATION:Tante Else, Bahnhofstr. 33, 32257 Bünde
SUMMARY:Stricken & Schnacken  15.5.2025
DESCRIPTION;ALTREP="data:text/html,%0A%3Cp%3EWir%20stricken%20an%20einer%
 20gr%C3%BCneren%20Zukunft%21%3C%2Fp%3E%0A%0A%0A%0A%3Cp%3ELiebe%20Freundin
 nen%20und%20Freunde%2C%20es%20ist%20wieder%20Zeit%20f%C3%BCr%20unser%20be
 liebtes%20%E2%80%9AStricken%20%26amp%3B%20Schnacken%E2%80%98%21%3C%2Fp%3E
 %0A%0A%0A%0A%3Cp%3EIhr%20seid%20herzlich%20eingeladen%2C%20mit%20uns%20be
 i%20Kaffee%20und%20Kuchen%20%C3%BCber%20gr%C3%BCne%20Themen%20zu%20plaude
 rn.%20Egal%2C%20ob%20ihr%20strickt%20oder%20nicht%2C%20ob%20ihr%20Kaffee%
 20oder%20Tee%20bevorzugt%20%E2%80%93%20bei%20uns%20seid%20ihr%20willkomme
 n%21%3C%2Fp%3E%0A%0A%0A%0A%3Cp%3EWir%20sind%20eine%20Gruppe%20engagierter
 %20Gr%C3%BCner%2C%20die%20es%20gem%C3%BCtlich%20m%C3%B6gen%2C%20aber%20au
 ch%20mal%20unbequeme%20Themen%20ansprechen.%20Lasst%20uns%20gemeinsam%20%
 C3%BCber%20Klimaschutz%2C%20soziale%20Gerechtigkeit%20und%20eine%20vielf%
 C3%A4ltige%20Gesellschaft%20diskutieren.%3C%2Fp%3E%0A%0A%0A%0A%3Cp%3EKomm
 t%20vorbei%20und%20teilt%20eure%20Gedanken%20mit%20uns.%20Das%20erste%20G
 etr%C3%A4nk%20geht%20auf%20uns%21%3C%2Fp%3E%0A%0A%0A%0A%3Cp%3EWann%3A%201
 6%20Uhr%20am%2015.%20Mai%202025%20und%20an%20jedem%203.%20Donnerstag%20in
 %20ungeraden%20Monaten%3Cbr%3EWo%3A%20Bioladen%20Tante%20Else%2C%20Bahnho
 fstra%C3%9Fe%2033%2C%20B%C3%BCnde%3C%2Fp%3E%0A%0A%0A%0A%3Cp%3EWir%20freue
 n%20uns%20auf%20euch%20und%20einen%20spannenden%20Austausch%21%26nbsp%3B%
 3C%2Fp%3E%0A%0A%0A%0A%3Cp%3E%3C%2Fp%3E%0A%0A%0A%0A%3Cp%3E%3C%2Fp%3E%0A":W
 ir stricken an einer grüneren Zukunft!\n\nLiebe Freundinnen und Freunde\
 , es ist wieder Zeit für unser beliebtes ‚Stricken & Schnacken‘!\n\n
 Ihr seid herzlich eingeladen\, mit uns bei Kaffee und Kuchen über grüne
  Themen zu plaudern. Egal\, ob ihr strickt oder nicht\, ob ihr Kaffee ode
 r Tee bevorzugt – bei uns seid ihr willkommen!\n\nWir sind eine Gruppe 
 engagierter Grüner\, die es gemütlich mögen\, aber auch mal unbequeme 
 Themen ansprechen. Lasst uns gemeinsam über Klimaschutz\, soziale Gerech
 tigkeit und eine vielfältige Gesellschaft diskutieren.\n\nKommt vorbei u
 nd teilt eure Gedanken mit uns. Das erste Getränk geht auf uns!\n\nWann:
  16 Uhr am 15. Mai 2025 und an jedem 3. Donnerstag in ungeraden MonatenWo
 : Bioladen Tante Else\, Bahnhofstraße 33\, Bünde\n\nWir freuen uns auf 
 euch und einen spannenden Austausch! 
CLASS:PUBLIC
DTSTART;TZID=Europe/Berlin:20250515T160000
DTEND;TZID=Europe/Berlin:20250515T180000
DTSTAMP:20260420T102626
END:VEVENT
END:VCALENDAR